BEGIN:VCALENDAR
VERSION:2.0
PRODID:icalendar-ruby
CALSCALE:GREGORIAN
BEGIN:VTIMEZONE
TZID:Europe/Berlin
BEGIN:DAYLIGHT
DTSTART:20260329T030000
TZOFFSETFROM:+0100
TZOFFSETTO:+0200
RRULE:FREQ=YEARLY;BYDAY=-1SU;BYMONTH=3
TZNAME:CEST
END:DAYLIGHT
BEGIN:STANDARD
DTSTART:20261025T020000
TZOFFSETFROM:+0200
TZOFFSETTO:+0100
RRULE:FREQ=YEARLY;BYDAY=-1SU;BYMONTH=10
TZNAME:CET
END:STANDARD
END:VTIMEZONE
BEGIN:VEVENT
DTSTAMP:20260424T133113Z
UID:29500
DTSTART;TZID=Europe/Berlin:20260509T190000
DTEND;TZID=Europe/Berlin:20260509T200000
CREATED:20260422T144622
DESCRIPTION:Event: Auftitt in Großwallstadt\n\nChor: Reine Männersache Ze
 llhausen\n\nTerminkategorie: Kurzauftritt\, Ständchen/kurzer Auftritt\, M
 usikalische Umrahmung/Integrierter Auftritt\n\nhttp://www.reine-maenner.de
 \n\nwww.blankmusic.org
LAST-MODIFIED:20260422T144622
SUMMARY:Auftitt in Großwallstadt
URL;VALUE=URI:https://www.reine-maenner.de/performances?performance_id=2950
 0#performance_29500
X-ALT-DESC;FMTTYPE=text/html:Event: <i>Auftitt in Großwallstadt</i><br><br
 >Chor: <i>Reine Männersache Zellhausen</i><br><br>Terminkategorie: <i>Kur
 zauftritt\, Ständchen/kurzer Auftritt\, Musikalische Umrahmung/Integriert
 er Auftritt</i><br><br>http://www.reine-maenner.de<br><br>www.blankmusic.o
 rg
END:VEVENT
END:VCALENDAR
